############################################################################## ############################################################################## ### ### Running command: ### ### rm -rf XeniumIO.buildbin-libdir && mkdir XeniumIO.buildbin-libdir && E:\biocbuild\bbs-3.21-bioc\R\bin\R.exe CMD INSTALL --build --library=XeniumIO.buildbin-libdir XeniumIO_0.99.8.tar.gz ### ############################################################################## ############################################################################## * installing *source* package 'XeniumIO' ... ** this is package 'XeniumIO' version '0.99.8' ** using staged installation ** R ** inst ** byte-compile and prepare package for lazy loading ** help *** installing help indices ** building package indices ** installing vignettes ** testing if installed package can be loaded from temporary location ** testing if installed package can be loaded from final location ** testing if installed package keeps a record of temporary installation path * MD5 sums packaged installation of 'XeniumIO' as XeniumIO_0.99.8.zip * DONE (XeniumIO)