Package: XeniumIO Version: 0.99.8 Command: /home/biocbuild/bbs-3.21-bioc/R/bin/R CMD INSTALL XeniumIO StartedAt: 2025-02-21 16:16:40 -0500 (Fri, 21 Feb 2025) EndedAt: 2025-02-21 16:17:05 -0500 (Fri, 21 Feb 2025) EllapsedTime: 24.7 seconds RetCode: 0 Status: OK