Package: XeniumIO Version: 0.99.8 Command: /home/biocbuild/bbs-3.21-bioc/R/bin/R CMD check --install=check:XeniumIO.install-out.txt --library=/home/biocbuild/bbs-3.21-bioc/R/site-library --timings XeniumIO_0.99.8.tar.gz StartedAt: 2025-02-22 03:15:09 -0500 (Sat, 22 Feb 2025) EndedAt: 2025-02-22 03:18:32 -0500 (Sat, 22 Feb 2025) EllapsedTime: 202.3 seconds RetCode: 0 Status: OK CheckDir: XeniumIO.Rcheck Warnings: 0