Package: XeniumIO Version: 0.99.8 Command: /home/biocbuild/bbs-3.21-bioc/R/bin/R CMD build --keep-empty-dirs --no-resave-data XeniumIO StartedAt: 2025-02-21 20:06:47 -0500 (Fri, 21 Feb 2025) EndedAt: 2025-02-21 20:07:26 -0500 (Fri, 21 Feb 2025) EllapsedTime: 39.0 seconds RetCode: 0 Status: OK PackageFile: XeniumIO_0.99.8.tar.gz PackageFileSize: 228.9 KiB