Package: XeniumIO Version: 0.99.8 Command: rm -rf XeniumIO.buildbin-libdir && mkdir XeniumIO.buildbin-libdir && /Users/biocbuild/BBS/utils/build-universal.sh XeniumIO_0.99.8.tar.gz /Library/Frameworks/R.framework/Resources/bin/R XeniumIO.buildbin-libdir StartedAt: 2025-02-22 01:00:20 -0500 (Sat, 22 Feb 2025) EndedAt: 2025-02-22 01:00:55 -0500 (Sat, 22 Feb 2025) EllapsedTime: 34.8 seconds RetCode: 0 Status: OK PackageFile: XeniumIO_0.99.8.tgz PackageFileSize: 273.7 KiB