Package: XeniumIO Version: 1.0.0 Command: /home/biocbuild/R/R/bin/R CMD INSTALL XeniumIO StartedAt: 2025-10-13 20:52:35 -0000 (Mon, 13 Oct 2025) EndedAt: 2025-10-13 20:53:11 -0000 (Mon, 13 Oct 2025) EllapsedTime: 36.0 seconds RetCode: 0 Status: OK