Package: XeniumIO Version: 1.0.0 Command: /home/biocbuild/R/R/bin/R CMD build --keep-empty-dirs --no-resave-data XeniumIO StartedAt: 2025-10-10 05:43:49 -0000 (Fri, 10 Oct 2025) EndedAt: 2025-10-10 05:44:39 -0000 (Fri, 10 Oct 2025) EllapsedTime: 50.0 seconds RetCode: 1 Status: ERROR PackageFile: None PackageFileSize: NA