Package: XeniumIO Version: 0.99.8 Command: /Library/Frameworks/R.framework/Resources/bin/R CMD INSTALL XeniumIO StartedAt: 2025-02-21 15:10:05 -0500 (Fri, 21 Feb 2025) EndedAt: 2025-02-21 15:10:15 -0500 (Fri, 21 Feb 2025) EllapsedTime: 10.5 seconds RetCode: 0 Status: OK