Package: XeniumIO Version: 0.99.8 Command: /Library/Frameworks/R.framework/Resources/bin/R CMD check --install=check:XeniumIO.install-out.txt --library=/Library/Frameworks/R.framework/Resources/library --no-vignettes --timings XeniumIO_0.99.8.tar.gz StartedAt: 2025-02-21 22:39:52 -0500 (Fri, 21 Feb 2025) EndedAt: 2025-02-21 22:41:07 -0500 (Fri, 21 Feb 2025) EllapsedTime: 74.9 seconds RetCode: 0 Status: OK CheckDir: XeniumIO.Rcheck Warnings: 0