Package: XeniumIO Version: 0.99.8 Command: /Library/Frameworks/R.framework/Resources/bin/R CMD build --keep-empty-dirs --no-resave-data XeniumIO StartedAt: 2025-02-21 17:53:55 -0500 (Fri, 21 Feb 2025) EndedAt: 2025-02-21 17:54:11 -0500 (Fri, 21 Feb 2025) EllapsedTime: 16.2 seconds RetCode: 0 Status: OK PackageFile: XeniumIO_0.99.8.tar.gz PackageFileSize: 228.8 KiB