Package: XVector Version: 0.47.2 Command: E:\biocbuild\bbs-3.21-bioc\R\bin\R.exe CMD INSTALL XVector StartedAt: 2025-02-19 15:30:51 -0500 (Wed, 19 Feb 2025) EndedAt: 2025-02-19 15:32:15 -0500 (Wed, 19 Feb 2025) EllapsedTime: 84.0 seconds RetCode: 0 Status: OK