Package: XVector Version: 0.47.2 Command: /home/biocbuild/bbs-3.21-bioc/R/bin/R CMD INSTALL XVector StartedAt: 2025-02-19 15:14:09 -0500 (Wed, 19 Feb 2025) EndedAt: 2025-02-19 15:14:25 -0500 (Wed, 19 Feb 2025) EllapsedTime: 16.8 seconds RetCode: 0 Status: OK