Package: XVector Version: 0.47.2 Command: /Library/Frameworks/R.framework/Resources/bin/R CMD INSTALL XVector StartedAt: 2025-02-19 15:03:01 -0500 (Wed, 19 Feb 2025) EndedAt: 2025-02-19 15:03:08 -0500 (Wed, 19 Feb 2025) EllapsedTime: 7.0 seconds RetCode: 0 Status: OK