Package: XNAString Version: 1.15.0 Command: chmod a+r XNAString -R && E:\biocbuild\bbs-3.21-bioc\R\bin\R.exe CMD build --keep-empty-dirs --no-resave-data XNAString StartedAt: 2025-02-19 22:20:37 -0500 (Wed, 19 Feb 2025) EndedAt: 2025-02-19 22:24:18 -0500 (Wed, 19 Feb 2025) EllapsedTime: 221.7 seconds RetCode: 0 Status: OK PackageFile: XNAString_1.15.0.tar.gz PackageFileSize: 1.63 MiB