Package: XNAString Version: 1.15.0 Command: rm -rf XNAString.buildbin-libdir && mkdir XNAString.buildbin-libdir && E:\biocbuild\bbs-3.21-bioc\R\bin\R.exe CMD INSTALL --build --library=XNAString.buildbin-libdir XNAString_1.15.0.tar.gz StartedAt: 2025-02-21 09:22:20 -0500 (Fri, 21 Feb 2025) EndedAt: 2025-02-21 09:24:48 -0500 (Fri, 21 Feb 2025) EllapsedTime: 148.3 seconds RetCode: 0 Status: OK PackageFile: XNAString_1.15.0.zip PackageFileSize: 1.948 MiB