Package: XNAString Version: 1.15.0 Command: /home/biocbuild/bbs-3.21-bioc/R/bin/R CMD INSTALL XNAString StartedAt: 2025-02-20 16:02:36 -0500 (Thu, 20 Feb 2025) EndedAt: 2025-02-20 16:02:42 -0500 (Thu, 20 Feb 2025) EllapsedTime: 5.2 seconds RetCode: 1 Status: ERROR