Package: XNAString Version: 1.15.0 Command: /Library/Frameworks/R.framework/Resources/bin/R CMD check --install=check:XNAString.install-out.txt --library=/Library/Frameworks/R.framework/Resources/library --no-vignettes --timings XNAString_1.15.0.tar.gz StartedAt: 2025-02-21 00:02:21 -0500 (Fri, 21 Feb 2025) EndedAt: 2025-02-21 00:07:40 -0500 (Fri, 21 Feb 2025) EllapsedTime: 319.2 seconds RetCode: 0 Status: WARNINGS CheckDir: XNAString.Rcheck Warnings: 2