Package: XNAString Version: 1.15.0 Command: /Library/Frameworks/R.framework/Resources/bin/R CMD build --keep-empty-dirs --no-resave-data XNAString StartedAt: 2025-02-20 18:38:56 -0500 (Thu, 20 Feb 2025) EndedAt: 2025-02-20 18:41:37 -0500 (Thu, 20 Feb 2025) EllapsedTime: 161.2 seconds RetCode: 0 Status: OK PackageFile: XNAString_1.15.0.tar.gz PackageFileSize: 1.631 MiB