Package: XNAString Version: 1.15.0 Command: /home/biocbuild/R/R/bin/R CMD build --keep-empty-dirs --no-resave-data XNAString StartedAt: 2025-01-28 03:13:58 -0000 (Tue, 28 Jan 2025) EndedAt: 2025-01-28 03:17:01 -0000 (Tue, 28 Jan 2025) EllapsedTime: 182.6 seconds RetCode: 0 Status: OK PackageFile: XNAString_1.15.0.tar.gz PackageFileSize: 1.694 MiB