Package: XINA Version: 1.25.0 Command: rm -rf XINA.buildbin-libdir && mkdir XINA.buildbin-libdir && E:\biocbuild\bbs-3.21-bioc\R\bin\R.exe CMD INSTALL --build --library=XINA.buildbin-libdir XINA_1.25.0.tar.gz StartedAt: 2025-02-20 09:01:51 -0500 (Thu, 20 Feb 2025) EndedAt: 2025-02-20 09:02:12 -0500 (Thu, 20 Feb 2025) EllapsedTime: 20.6 seconds RetCode: 0 Status: OK PackageFile: XINA_1.25.0.zip PackageFileSize: 1.237 MiB