Package: XDE Version: 2.53.0 Command: chmod a+r XDE -R && E:\biocbuild\bbs-3.21-bioc\R\bin\R.exe CMD build --keep-empty-dirs --no-resave-data XDE StartedAt: 2025-02-20 22:29:52 -0500 (Thu, 20 Feb 2025) EndedAt: 2025-02-20 22:32:09 -0500 (Thu, 20 Feb 2025) EllapsedTime: 137.1 seconds RetCode: 0 Status: OK PackageFile: XDE_2.53.0.tar.gz PackageFileSize: 1.086 MiB