Package: XDE Version: 2.53.0 Command: /home/biocbuild/bbs-3.21-bioc/R/bin/R CMD INSTALL XDE StartedAt: 2025-02-20 15:39:01 -0500 (Thu, 20 Feb 2025) EndedAt: 2025-02-20 15:39:57 -0500 (Thu, 20 Feb 2025) EllapsedTime: 55.8 seconds RetCode: 0 Status: OK