Package: XDE Version: 2.53.0 Command: /home/biocbuild/bbs-3.21-bioc/R/bin/R CMD build --keep-empty-dirs --no-resave-data XDE StartedAt: 2025-02-20 19:45:40 -0500 (Thu, 20 Feb 2025) EndedAt: 2025-02-20 19:46:48 -0500 (Thu, 20 Feb 2025) EllapsedTime: 68.1 seconds RetCode: 0 Status: OK PackageFile: XDE_2.53.0.tar.gz PackageFileSize: 1.318 MiB