Package: XDE Version: 2.53.0 Command: /Library/Frameworks/R.framework/Resources/bin/R CMD INSTALL XDE StartedAt: 2025-02-21 15:36:57 -0500 (Fri, 21 Feb 2025) EndedAt: 2025-02-21 15:38:10 -0500 (Fri, 21 Feb 2025) EllapsedTime: 73.8 seconds RetCode: 0 Status: OK