Package: XDE Version: 2.53.0 Command: /Library/Frameworks/R.framework/Resources/bin/R CMD build --keep-empty-dirs --no-resave-data XDE StartedAt: 2025-02-20 17:54:35 -0500 (Thu, 20 Feb 2025) EndedAt: 2025-02-20 17:55:01 -0500 (Thu, 20 Feb 2025) EllapsedTime: 26.3 seconds RetCode: 0 Status: OK PackageFile: XDE_2.53.0.tar.gz PackageFileSize: 1.318 MiB