Package: XDE Version: 2.53.0 Command: rm -rf XDE.buildbin-libdir && mkdir XDE.buildbin-libdir && /Users/biocbuild/BBS/utils/build-universal.sh XDE_2.53.0.tar.gz /Library/Frameworks/R.framework/Resources/bin/R XDE.buildbin-libdir StartedAt: 2025-02-20 22:39:36 -0500 (Thu, 20 Feb 2025) EndedAt: 2025-02-20 22:39:57 -0500 (Thu, 20 Feb 2025) EllapsedTime: 21.3 seconds RetCode: 0 Status: OK PackageFile: XDE_2.53.0.tgz PackageFileSize: 2.198 MiB