Package: Wrench Version: 1.25.0 Command: rm -rf Wrench.buildbin-libdir && mkdir Wrench.buildbin-libdir && E:\biocbuild\bbs-3.21-bioc\R\bin\R.exe CMD INSTALL --build --library=Wrench.buildbin-libdir Wrench_1.25.0.tar.gz StartedAt: 2025-02-21 09:21:55 -0500 (Fri, 21 Feb 2025) EndedAt: 2025-02-21 09:22:06 -0500 (Fri, 21 Feb 2025) EllapsedTime: 11.2 seconds RetCode: 0 Status: OK PackageFile: Wrench_1.25.0.zip PackageFileSize: 269.4 KiB