Package: Wrench Version: 1.25.0 Command: /Library/Frameworks/R.framework/Resources/bin/R CMD INSTALL Wrench StartedAt: 2025-02-21 15:06:50 -0500 (Fri, 21 Feb 2025) EndedAt: 2025-02-21 15:07:22 -0500 (Fri, 21 Feb 2025) EllapsedTime: 31.5 seconds RetCode: 0 Status: OK