Package: Wrench Version: 1.25.0 Command: /Library/Frameworks/R.framework/Resources/bin/R CMD check --install=check:Wrench.install-out.txt --library=/Library/Frameworks/R.framework/Resources/library --no-vignettes --timings Wrench_1.25.0.tar.gz StartedAt: 2025-02-22 00:02:24 -0500 (Sat, 22 Feb 2025) EndedAt: 2025-02-22 00:03:22 -0500 (Sat, 22 Feb 2025) EllapsedTime: 57.3 seconds RetCode: 0 Status: OK CheckDir: Wrench.Rcheck Warnings: 0