Package: Wrench Version: 1.25.0 Command: /Library/Frameworks/R.framework/Resources/bin/R CMD build --keep-empty-dirs --no-resave-data Wrench StartedAt: 2025-02-20 17:54:20 -0500 (Thu, 20 Feb 2025) EndedAt: 2025-02-20 17:54:39 -0500 (Thu, 20 Feb 2025) EllapsedTime: 18.2 seconds RetCode: 0 Status: OK PackageFile: Wrench_1.25.0.tar.gz PackageFileSize: 225.2 KiB