Package: VplotR Version: 1.17.0 Command: /home/biocbuild/bbs-3.21-bioc/R/bin/R CMD build --keep-empty-dirs --no-resave-data VplotR StartedAt: 2025-02-19 19:40:41 -0500 (Wed, 19 Feb 2025) EndedAt: 2025-02-19 19:42:29 -0500 (Wed, 19 Feb 2025) EllapsedTime: 108.1 seconds RetCode: 0 Status: OK PackageFile: VplotR_1.17.0.tar.gz PackageFileSize: 5.16 MiB