Package: VplotR Version: 1.17.0 Command: /Library/Frameworks/R.framework/Resources/bin/R CMD INSTALL VplotR StartedAt: 2025-02-19 15:08:25 -0500 (Wed, 19 Feb 2025) EndedAt: 2025-02-19 15:08:36 -0500 (Wed, 19 Feb 2025) EllapsedTime: 11.4 seconds RetCode: 0 Status: OK