Package: VplotR Version: 1.18.0 Command: /Library/Frameworks/R.framework/Resources/bin/R CMD INSTALL VplotR StartedAt: 2025-10-13 17:55:25 -0400 (Mon, 13 Oct 2025) EndedAt: 2025-10-13 17:56:01 -0400 (Mon, 13 Oct 2025) EllapsedTime: 35.9 seconds RetCode: 0 Status: OK