Package: VplotR Version: 1.18.0 Command: /Library/Frameworks/R.framework/Resources/bin/R CMD build --keep-empty-dirs --no-resave-data VplotR StartedAt: 2025-10-14 11:53:36 -0400 (Tue, 14 Oct 2025) EndedAt: 2025-10-14 11:56:00 -0400 (Tue, 14 Oct 2025) EllapsedTime: 143.7 seconds RetCode: 0 Status: OK PackageFile: VplotR_1.18.0.tar.gz PackageFileSize: 5.162 MiB