Package: Voyager Version: 1.9.2 Command: E:\biocbuild\bbs-3.21-bioc\R\bin\R.exe CMD INSTALL Voyager StartedAt: 2025-02-20 16:47:16 -0500 (Thu, 20 Feb 2025) EndedAt: 2025-02-20 16:48:41 -0500 (Thu, 20 Feb 2025) EllapsedTime: 85.7 seconds RetCode: 0 Status: OK