Package: Voyager Version: 1.9.2 Command: chmod a+r Voyager -R && E:\biocbuild\bbs-3.21-bioc\R\bin\R.exe CMD build --keep-empty-dirs --no-resave-data Voyager StartedAt: 2025-02-21 22:58:53 -0500 (Fri, 21 Feb 2025) EndedAt: 2025-02-21 23:01:08 -0500 (Fri, 21 Feb 2025) EllapsedTime: 134.9 seconds RetCode: 0 Status: OK PackageFile: Voyager_1.9.2.tar.gz PackageFileSize: 2.801 MiB