Package: Voyager Version: 1.9.2 Command: rm -rf Voyager.buildbin-libdir && mkdir Voyager.buildbin-libdir && E:\biocbuild\bbs-3.21-bioc\R\bin\R.exe CMD INSTALL --build --library=Voyager.buildbin-libdir Voyager_1.9.2.tar.gz StartedAt: 2025-02-21 09:21:11 -0500 (Fri, 21 Feb 2025) EndedAt: 2025-02-21 09:22:45 -0500 (Fri, 21 Feb 2025) EllapsedTime: 93.6 seconds RetCode: 0 Status: OK PackageFile: Voyager_1.9.2.zip PackageFileSize: 2.774 MiB