Package: Voyager Version: 1.9.2 Command: /Library/Frameworks/R.framework/Resources/bin/R CMD INSTALL Voyager StartedAt: 2025-02-20 15:38:41 -0500 (Thu, 20 Feb 2025) EndedAt: 2025-02-20 15:39:51 -0500 (Thu, 20 Feb 2025) EllapsedTime: 70.4 seconds RetCode: 0 Status: OK