Package: Voyager Version: 1.9.2 Command: /Library/Frameworks/R.framework/Resources/bin/R CMD build --keep-empty-dirs --no-resave-data Voyager StartedAt: 2025-02-20 18:36:51 -0500 (Thu, 20 Feb 2025) EndedAt: 2025-02-20 18:38:37 -0500 (Thu, 20 Feb 2025) EllapsedTime: 106.0 seconds RetCode: 0 Status: OK PackageFile: Voyager_1.9.2.tar.gz PackageFileSize: 4.661 MiB