Package: Voyager Version: 1.9.2 Command: /Library/Frameworks/R.framework/Resources/bin/R CMD INSTALL Voyager StartedAt: 2025-02-20 15:26:17 -0500 (Thu, 20 Feb 2025) EndedAt: 2025-02-20 15:26:36 -0500 (Thu, 20 Feb 2025) EllapsedTime: 19.2 seconds RetCode: 0 Status: OK