Package: VisiumIO Version: 1.3.5 Command: E:\biocbuild\bbs-3.21-bioc\R\bin\R.exe CMD INSTALL VisiumIO StartedAt: 2025-02-20 16:23:12 -0500 (Thu, 20 Feb 2025) EndedAt: 2025-02-20 16:23:58 -0500 (Thu, 20 Feb 2025) EllapsedTime: 45.9 seconds RetCode: 0 Status: OK