Package: VisiumIO Version: 1.3.5 Command: /home/biocbuild/bbs-3.21-bioc/R/bin/R CMD build --keep-empty-dirs --no-resave-data VisiumIO StartedAt: 2025-02-20 19:42:51 -0500 (Thu, 20 Feb 2025) EndedAt: 2025-02-20 19:43:32 -0500 (Thu, 20 Feb 2025) EllapsedTime: 41.0 seconds RetCode: 0 Status: OK PackageFile: VisiumIO_1.3.5.tar.gz PackageFileSize: 1.505 MiB