Package: VisiumIO Version: 1.3.5 Command: /Library/Frameworks/R.framework/Resources/bin/R CMD INSTALL VisiumIO StartedAt: 2025-02-20 15:15:18 -0500 (Thu, 20 Feb 2025) EndedAt: 2025-02-20 15:15:54 -0500 (Thu, 20 Feb 2025) EllapsedTime: 36.1 seconds RetCode: 0 Status: OK