Package: VisiumIO Version: 1.3.5 Command: /Library/Frameworks/R.framework/Resources/bin/R CMD build --keep-empty-dirs --no-resave-data VisiumIO StartedAt: 2025-02-20 18:36:48 -0500 (Thu, 20 Feb 2025) EndedAt: 2025-02-20 18:37:34 -0500 (Thu, 20 Feb 2025) EllapsedTime: 46.7 seconds RetCode: 0 Status: OK PackageFile: VisiumIO_1.3.5.tar.gz PackageFileSize: 1.505 MiB