Package: VisiumIO Version: 1.3.5 Command: rm -rf VisiumIO.buildbin-libdir && mkdir VisiumIO.buildbin-libdir && /Users/biocbuild/BBS/utils/build-universal.sh VisiumIO_1.3.5.tar.gz /Library/Frameworks/R.framework/Resources/bin/R VisiumIO.buildbin-libdir StartedAt: 2025-02-20 22:39:21 -0500 (Thu, 20 Feb 2025) EndedAt: 2025-02-20 22:39:33 -0500 (Thu, 20 Feb 2025) EllapsedTime: 12.2 seconds RetCode: 0 Status: OK PackageFile: VisiumIO_1.3.5.tgz PackageFileSize: 1.597 MiB