Package: VisiumIO Version: 1.3.5 Maintainer: Marcel Ramos MaintainerEmail: marcel.ramos at sph.cuny.edu git_url: https://git.bioconductor.org/packages/VisiumIO git_branch: devel git_last_commit: 5970e95 git_last_commit_date: 2025-02-11 12:28:23 -0500 (Tue, 11 Feb 2025)