Package: VennDetail Version: 1.23.0 Command: E:\biocbuild\bbs-3.21-bioc\R\bin\R.exe CMD INSTALL VennDetail StartedAt: 2025-02-17 15:34:24 -0500 (Mon, 17 Feb 2025) EndedAt: 2025-02-17 15:34:54 -0500 (Mon, 17 Feb 2025) EllapsedTime: 30.6 seconds RetCode: 0 Status: OK