Package: VennDetail Version: 1.23.0 Command: rm -rf VennDetail.buildbin-libdir && mkdir VennDetail.buildbin-libdir && E:\biocbuild\bbs-3.21-bioc\R\bin\R.exe CMD INSTALL --build --library=VennDetail.buildbin-libdir VennDetail_1.23.0.tar.gz StartedAt: 2025-02-18 08:31:50 -0500 (Tue, 18 Feb 2025) EndedAt: 2025-02-18 08:32:14 -0500 (Tue, 18 Feb 2025) EllapsedTime: 24.0 seconds RetCode: 0 Status: OK PackageFile: VennDetail_1.23.0.zip PackageFileSize: 319.5 KiB