Package: VennDetail Version: 1.23.0 Command: /Library/Frameworks/R.framework/Resources/bin/R CMD INSTALL VennDetail StartedAt: 2025-02-17 15:07:11 -0500 (Mon, 17 Feb 2025) EndedAt: 2025-02-17 15:07:13 -0500 (Mon, 17 Feb 2025) EllapsedTime: 2.5 seconds RetCode: 0 Status: OK