Package: VegaMC Version: 3.45.0 Command: E:\biocbuild\bbs-3.21-bioc\R\bin\R.exe CMD INSTALL VegaMC StartedAt: 2025-02-20 15:48:29 -0500 (Thu, 20 Feb 2025) EndedAt: 2025-02-20 15:48:58 -0500 (Thu, 20 Feb 2025) EllapsedTime: 28.6 seconds RetCode: 0 Status: OK